BEGIN:VCALENDAR
VERSION:2.0
PRODID:-// - ECPv6.13.0//NONSGML v1.0//EN
CALSCALE:GREGORIAN
METHOD:PUBLISH
X-ORIGINAL-URL:https://oceanrunningclub.org
X-WR-CALDESC:Events for 
REFRESH-INTERVAL;VALUE=DURATION:PT1H
X-Robots-Tag:noindex
X-PUBLISHED-TTL:PT1H
BEGIN:VTIMEZONE
TZID:America/New_York
BEGIN:DAYLIGHT
TZOFFSETFROM:-0500
TZOFFSETTO:-0400
TZNAME:EDT
DTSTART:20240310T070000
END:DAYLIGHT
BEGIN:STANDARD
TZOFFSETFROM:-0400
TZOFFSETTO:-0500
TZNAME:EST
DTSTART:20241103T060000
END:STANDARD
END:VTIMEZONE
BEGIN:VEVENT
DTSTART;TZID=America/New_York:20240210T083000
DTEND;TZID=America/New_York:20240210T113000
DTSTAMP:20260422T174337
CREATED:20231201T112541Z
LAST-MODIFIED:20231201T112541Z
UID:490-1707553800-1707564600@oceanrunningclub.org
SUMMARY:Cupid's Chase 5K Seaside Heights
DESCRIPTION:Description\n\n\nJoin us for the 16th annual Cupid’s Chase 5K! \nCommunity Options\, Inc. invites runners\, walkers\, rollers (baby strollers and wheelchairs)\, and sponsors to raise funds that make a difference in the lives of people with disabilities at our annual Cupid’s Chase 5K. Register early to secure your early bird discount and guarantee your Cupid’s Chase shirt! \nAll attendees will be given the opportunity to fundraise. Because of you… we can make a difference! \nCLICK HERE TO REGISTER\nRace Info \n– Check-in starts at 8:30 am\, and the race begins at 10:00 am. \n– Join us for an inclusive and memorable experience! Our event is fully accessible. Though this is a pet friendly event\, all pets must always remain on leashes. \n– This is a certified 5K with chipped timing. Results will be posted immediately after the race. \n– Please register early! To guarantee your Cupid’s Chase shirt\, participants must register on or before January 1\, 2024. After January 1st\, race shirts are available while supplies last. \n– Receive an official Cupid’s Chase finisher medal upon completing the race. \n– All participants receive a Cupid’s Chase drawstring bag. \n* Kindly note that all giveaways are available while supplies last. \n– Trophy awards go to the top 3 overall finishers for male and female. \n– First place from each age group will receive an age group medal. (12 and under\, 13-15\, 16-19\, 20-24\, 25-29\, 30-34\, 35-39\, 40-44\, 45-49\, 50-54\, 55-59\, 60-69\, 70 and over) \nGear Check \nThis is a rain or shine event! Remember to dress warmly for the event! \nPlease check this space for updates in case of inclement weather conditions. \nRefund Policy \nKindly note that all registration fees are non-refundable.
URL:https://oceanrunningclub.org/event/cupids-chase-5k-seaside-heights/
LOCATION:Seaside Heights New Jersey\, Hiering Avenue\, Seaside Heights\, New Jersey
CATEGORIES:Races
END:VEVENT
END:VCALENDAR