BEGIN:VCALENDAR
VERSION:2.0
PRODID:-// - ECPv6.13.0//NONSGML v1.0//EN
CALSCALE:GREGORIAN
METHOD:PUBLISH
X-ORIGINAL-URL:https://oceanrunningclub.org
X-WR-CALDESC:Events for 
REFRESH-INTERVAL;VALUE=DURATION:PT1H
X-Robots-Tag:noindex
X-PUBLISHED-TTL:PT1H
BEGIN:VTIMEZONE
TZID:America/New_York
BEGIN:DAYLIGHT
TZOFFSETFROM:-0500
TZOFFSETTO:-0400
TZNAME:EDT
DTSTART:20240310T070000
END:DAYLIGHT
BEGIN:STANDARD
TZOFFSETFROM:-0400
TZOFFSETTO:-0500
TZNAME:EST
DTSTART:20241103T060000
END:STANDARD
END:VTIMEZONE
BEGIN:VEVENT
DTSTART;TZID=America/New_York:20240310T083000
DTEND;TZID=America/New_York:20240310T170000
DTSTAMP:20260422T080605
CREATED:20240101T133158Z
LAST-MODIFIED:20240101T133213Z
UID:689-1710059400-1710090000@oceanrunningclub.org
SUMMARY:E. Murray Todd Half-Marathon
DESCRIPTION:Sunday\, March 10 at 8:30 a.m.\nRace starts at Brookdale Community College\, Lincroft.\n13.1 mile course loops through the residential sections of Lincroft\, Holmdel and Colts Neck. For information\, call 732-542-1642\, ext. 25. \nClick here to register \n13.1 miles on a beautiful course through Lincroft\, Holmdel and Colts Neck. Sunday\, March 10\, 2024; 8:30 am start at Brookdale Community College Collins Arena: Newman Springs Road\, Lincroft. Forty-Five Years of racing tradition on one of New Jersey’s most attractive courses. Pre-registration is suggested and closes on March 3rd\, 2024. Registration can also be done online. Race day registration accepted on Sunday\, March 10th beginning at 7:00 am. The race day registration cost is $60. Checks and cash accepted only. Checks should be made out to the Board of Recreation Commissioners. \nFor additional information\, call 732-542-1642\, ext. 25\, or email Michael.Williams@co.monmouth.nj.us.
URL:https://oceanrunningclub.org/event/e-murray-todd-half-marathon/
LOCATION:Brookdale Community College\, Lincroft\, New Jersey
CATEGORIES:Races
ORGANIZER;CN="Monmouth County Parks System":MAILTO:Michael.Williams@co.monmouth.nj.us.
END:VEVENT
END:VCALENDAR