BEGIN:VCALENDAR
VERSION:2.0
PRODID:-// - ECPv6.13.0//NONSGML v1.0//EN
CALSCALE:GREGORIAN
METHOD:PUBLISH
X-ORIGINAL-URL:https://oceanrunningclub.org
X-WR-CALDESC:Events for 
REFRESH-INTERVAL;VALUE=DURATION:PT1H
X-Robots-Tag:noindex
X-PUBLISHED-TTL:PT1H
BEGIN:VTIMEZONE
TZID:America/New_York
BEGIN:DAYLIGHT
TZOFFSETFROM:-0500
TZOFFSETTO:-0400
TZNAME:EDT
DTSTART:20240310T070000
END:DAYLIGHT
BEGIN:STANDARD
TZOFFSETFROM:-0400
TZOFFSETTO:-0500
TZNAME:EST
DTSTART:20241103T060000
END:STANDARD
END:VTIMEZONE
BEGIN:VEVENT
DTSTART;TZID=America/New_York:20240323T103000
DTEND;TZID=America/New_York:20240323T170000
DTSTAMP:20260419T185908
CREATED:20231114T230005Z
LAST-MODIFIED:20231114T230005Z
UID:343-1711189800-1711213200@oceanrunningclub.org
SUMMARY:St. Paddy's Day 5 Miler
DESCRIPTION:Freehold Area Running Club presents the 33St Annual St. Paddy’s 5 Mile Race on March 23\, 2024. A 5-mile course\, contained within Tighe Park.  A beautiful run through the parks green space\, you will cross the Manasquan River on a country bridge. Refreshments will include beer and hot dogs. T-shirts are guaranteed to all pre-registrants and new this year are Finishers Medals. The St. Paddy’s 5 Mile Race supports Freehold Twp. Parks and Recreation Special Olympics and Freehold Twp. Recreation Challenger Sports for Special Needs. \nClick here to Register
URL:https://oceanrunningclub.org/event/st-paddys-day-5-miler/
LOCATION:Freehold\, NJ\, United States
CATEGORIES:Races
ORGANIZER;CN="Freehold Area Running Club":MAILTO:farcnj@gmail.com
END:VEVENT
END:VCALENDAR