BEGIN:VCALENDAR
VERSION:2.0
PRODID:-// - ECPv6.13.0//NONSGML v1.0//EN
CALSCALE:GREGORIAN
METHOD:PUBLISH
X-ORIGINAL-URL:https://oceanrunningclub.org
X-WR-CALDESC:Events for 
REFRESH-INTERVAL;VALUE=DURATION:PT1H
X-Robots-Tag:noindex
X-PUBLISHED-TTL:PT1H
BEGIN:VTIMEZONE
TZID:America/New_York
BEGIN:DAYLIGHT
TZOFFSETFROM:-0500
TZOFFSETTO:-0400
TZNAME:EDT
DTSTART:20240310T070000
END:DAYLIGHT
BEGIN:STANDARD
TZOFFSETFROM:-0400
TZOFFSETTO:-0500
TZNAME:EST
DTSTART:20241103T060000
END:STANDARD
END:VTIMEZONE
BEGIN:VEVENT
DTSTART;TZID=America/New_York:20240330T090000
DTEND;TZID=America/New_York:20240330T120000
DTSTAMP:20260419T215630
CREATED:20240204T122127Z
LAST-MODIFIED:20240204T122311Z
UID:775-1711789200-1711800000@oceanrunningclub.org
SUMMARY:Bunny Hop 5K
DESCRIPTION:Place\nVeteran’s Park\, Engleside Avenue\nBeach Haven\, NJ US 08008\n\n\n\n\nDescription\n\n\nJoin the Reynolds Family Foundation for our inaugural 5K\, or chose the 1 mile fun run/walk!  The course is flat\, thru the historic district in Beach Haven\, a block from the ocean.  Thanks to our sponsors\, every dollar of your entry fees goes to our local food initiatives to feed those less fortunate.  Every dollar provides 3 meals\, so an adult entry feeds a family for a week.  Also available for a separate fee of $15\, we have long sleeve t race shirts.. Sign up & add it on by March 20 to pick up at the run\, later orders will be mailed.  Orders will be available at on-site registration as well. \nPrizes awarded to Top 3 overall Male\, Female & non-Binary; Top 2 %K in each age group ~~ 12 & under\, 13-19\, 29-29\, 30-39\, 40-49\, 50-59\, 60 & over \nRun packets will be available starting at 7:30AM on Run Day. Onsite registration fees for run\, Adults $30\, 12 & under $20.  For the Fun Run/Walk\, Adults $25\, 12 & under $15 \nCLICK HERE TO REGISTER
URL:https://oceanrunningclub.org/event/bunny-hop-5k-oceanrunningclub/
LOCATION:Beach Haven\, NJ\, Veteran's Park\, Engleside Avenue\, Beach Haven\, New Jersey
CATEGORIES:Races
END:VEVENT
END:VCALENDAR