BEGIN:VCALENDAR
VERSION:2.0
PRODID:-// - ECPv6.13.0//NONSGML v1.0//EN
CALSCALE:GREGORIAN
METHOD:PUBLISH
X-ORIGINAL-URL:https://oceanrunningclub.org
X-WR-CALDESC:Events for 
REFRESH-INTERVAL;VALUE=DURATION:PT1H
X-Robots-Tag:noindex
X-PUBLISHED-TTL:PT1H
BEGIN:VTIMEZONE
TZID:America/New_York
BEGIN:DAYLIGHT
TZOFFSETFROM:-0500
TZOFFSETTO:-0400
TZNAME:EDT
DTSTART:20240310T070000
END:DAYLIGHT
BEGIN:STANDARD
TZOFFSETFROM:-0400
TZOFFSETTO:-0500
TZNAME:EST
DTSTART:20241103T060000
END:STANDARD
END:VTIMEZONE
BEGIN:VEVENT
DTSTART;TZID=America/New_York:20240419T160000
DTEND;TZID=America/New_York:20240419T170000
DTSTAMP:20260419T233111
CREATED:20231123T165704Z
LAST-MODIFIED:20231123T170848Z
UID:417-1713542400-1713546000@oceanrunningclub.org
SUMMARY:MudHen Brewing Co. IPA 5K
DESCRIPTION:SAVE THE DATE: FRIDAY\, APRIL 19\, 2024!\nThe MudHen Brewing Co. 5K & Beer Mile‍\nCombining WORLD CLASS running (DelMoSports) and WORLD CLASS beer (MudHen Brewing Co.)\, you get the MudHen Brewing Co. 5K & Beer Mile. This event features a FLAT and FAST course\, with outstanding views of the ocean! \nWe know you can run anywhere but where else can you get world class beer and a world class running race ‘down the Shore? Here’s what runners can expect: \n\nOUTSTANDING Customer Service\nFresh Air and Open Space\nUnique\, closed\, safe course\nSwag for all runners\nAwards. Lot’s of awards!\n\nSign up Here
URL:https://oceanrunningclub.org/event/mudhen-brewing-co-ipa-5k/
LOCATION:Wildwood\, 127 W Rio Grande Ave\, Wildwood\, NJ\, 08260\, United States
CATEGORIES:Races
END:VEVENT
END:VCALENDAR