BEGIN:VCALENDAR
VERSION:2.0
PRODID:-// - ECPv6.13.0//NONSGML v1.0//EN
CALSCALE:GREGORIAN
METHOD:PUBLISH
X-ORIGINAL-URL:https://oceanrunningclub.org
X-WR-CALDESC:Events for 
REFRESH-INTERVAL;VALUE=DURATION:PT1H
X-Robots-Tag:noindex
X-PUBLISHED-TTL:PT1H
BEGIN:VTIMEZONE
TZID:America/New_York
BEGIN:DAYLIGHT
TZOFFSETFROM:-0500
TZOFFSETTO:-0400
TZNAME:EDT
DTSTART:20240310T070000
END:DAYLIGHT
BEGIN:STANDARD
TZOFFSETFROM:-0400
TZOFFSETTO:-0500
TZNAME:EST
DTSTART:20241103T060000
END:STANDARD
END:VTIMEZONE
BEGIN:VEVENT
DTSTART;TZID=America/New_York:20240504T085900
DTEND;TZID=America/New_York:20240504T120000
DTSTAMP:20260419T135726
CREATED:20240207T232146Z
LAST-MODIFIED:20240208T105418Z
UID:789-1714813140-1714824000@oceanrunningclub.org
SUMMARY:32nd Annual River to Bay 5K Classic
DESCRIPTION:Place\n1 Wanamaker Municipal Complex\nIsland Heights\, NJ US 08732\n\n\n\nDescription\n\n\nThe 2024 River to Bay 5K is scheduled as an In-Person Race on May 4 2024\, rain or shine.\nClick Here to Register\nPlease join us on Saturday May 4\, 2024 for the 32nd Annual River to Bay 5K Classic\, presented by the Kiwanis Club of Greater Toms River on its beautiful Island Heights course. This race is a USATF certified course. All participants must agree to the terms of the USATF Waiver as a condition of registration.\nAll proceeds benefit local youth and charitable organizations. Visit our website at http://tomsriverkiwanis.org/  and click the History tab to see some of the organizations we support.\n\nLimited to the first 750 participants\, please sign up early before the race fills up! Any “early bird” registrants before April 9\, 2024 save $5 on registration. Early bird registrants are guaranteed a race shirt of the correct size\, we cannot guarantee availability for those registering after early bird.\n\nPersons\, companies\, or groups interested in sponsoring the 2024 race may contact alex.mizenko@gmail.com. Sponsorships range from $75 to $2\,500\n\nSpecial thanks to our platinum sponsors for this year’s race\, Toms River Volkswagen\, as well as to major sponsors for the race\, Gateway Toyota\, Lakeland Bank\, Vision Financial Services\, and Counsellors Title Agency.
URL:https://oceanrunningclub.org/event/32nd-annual-river-to-bay-5k-ocean-running-club/
LOCATION:1 Wanamaker Municipal Complex\, Island Heights\, New Jersey\, 08732
CATEGORIES:Races
END:VEVENT
END:VCALENDAR