BEGIN:VCALENDAR
VERSION:2.0
PRODID:-// - ECPv6.13.0//NONSGML v1.0//EN
CALSCALE:GREGORIAN
METHOD:PUBLISH
X-ORIGINAL-URL:https://oceanrunningclub.org
X-WR-CALDESC:Events for 
REFRESH-INTERVAL;VALUE=DURATION:PT1H
X-Robots-Tag:noindex
X-PUBLISHED-TTL:PT1H
BEGIN:VTIMEZONE
TZID:America/New_York
BEGIN:DAYLIGHT
TZOFFSETFROM:-0500
TZOFFSETTO:-0400
TZNAME:EDT
DTSTART:20240310T070000
END:DAYLIGHT
BEGIN:STANDARD
TZOFFSETFROM:-0400
TZOFFSETTO:-0500
TZNAME:EST
DTSTART:20241103T060000
END:STANDARD
END:VTIMEZONE
BEGIN:VEVENT
DTSTART;TZID=America/New_York:20240602T060000
DTEND;TZID=America/New_York:20240602T170000
DTSTAMP:20260425T122704
CREATED:20231123T170459Z
LAST-MODIFIED:20231123T171139Z
UID:423-1717308000-1717347600@oceanrunningclub.org
SUMMARY:Escape the Cape Triathlon
DESCRIPTION:75% SOLD OUT! TIER 3 PRICING NOW IN EFFECT! DON’T MISS THE BOAT! LIMITED SLOTS REMAIN!\nThe DeSatnick Real Estate Escape the Cape starts with a 12 foot jump off the Cape May-Lewes Ferry.\nThe DeSatnick Real Estate Escape the Cape Triathlon was voted the BEST TRIATHLON in the Mid-Atlantic & North East Regions. The 11th Annual Escape the Cape Triathlon offers Sprint and Olympic distance triathlons. New Jersey’s Best Triathlon\, Escape the Cape Triathlon\, starts with a 12 foot jump off the Cape May-Lewes Ferry. \n\n“Top 5” Best Small race\,\n“Top 5” Best Large race\,\n“Top 5” Bucket List race\,\n“Top 5” Most Scenic race  in the USA by Triathlon Business International. Additionally\, the DelMoSports Championship Series was selected a “Top 5” triathlon series in the USA by voters.\n“Best Triathlons in the U.S. – Northeast Region” by Triathlete Magazine.\nThe Escape the Cape has been voted BEST OF COMPETITOR 2014 by athletes as Best Triathlon\, Best Swag\, & Best T-Shirt!\n\n1 Boat\, 2000 Athletes\, Unlimited Smack Talk!\nClick here to Register
URL:https://oceanrunningclub.org/event/escape-the-cape-triathlon/
LOCATION:Cape May NJ\, Cape May Ferry Terminal\, Capy May\, NJ
CATEGORIES:Races
END:VEVENT
END:VCALENDAR