BEGIN:VCALENDAR
VERSION:2.0
PRODID:-// - ECPv6.13.0//NONSGML v1.0//EN
CALSCALE:GREGORIAN
METHOD:PUBLISH
X-ORIGINAL-URL:https://oceanrunningclub.org
X-WR-CALDESC:Events for 
REFRESH-INTERVAL;VALUE=DURATION:PT1H
X-Robots-Tag:noindex
X-PUBLISHED-TTL:PT1H
BEGIN:VTIMEZONE
TZID:America/New_York
BEGIN:DAYLIGHT
TZOFFSETFROM:-0500
TZOFFSETTO:-0400
TZNAME:EDT
DTSTART:20240310T070000
END:DAYLIGHT
BEGIN:STANDARD
TZOFFSETFROM:-0400
TZOFFSETTO:-0500
TZNAME:EST
DTSTART:20241103T060000
END:STANDARD
END:VTIMEZONE
BEGIN:VEVENT
DTSTART;TZID=America/New_York:20240706T080000
DTEND;TZID=America/New_York:20240706T110000
DTSTAMP:20260419T135153
CREATED:20240205T211152Z
LAST-MODIFIED:20240208T225414Z
UID:785-1720252800-1720263600@oceanrunningclub.org
SUMMARY:Ocean Gate 5K
DESCRIPTION:OCEAN GATE 5K\n\n\nPlace\n27 E. Cape May Ave.\nOcean Gate\, NJ US 08740\n\n\n\nDescription\n\n\nJoin us for the Family Fun Ocean Gate 5K run and 1 mile walk/run. \nThe run is a chip timed race on a flat and fast certified 5K course through beautiful Ocean Gate\, NJ.  A finish line video will be published online so you can see yourself finish.  Race results will be available within seconds of finishing with time and pace for each participant.  \nClick Here to REGISTER\nAll finishers will receive an awesome Finisher Pint Glass! \nAwards for top Overall Female and Male and top two Female and Male in 10 year age groups. \nEvent shirts are Unisex.  Register by June 21\, to be guaranteed an event shirt.   \nPacket Pick-up is available on Friday\, July 5\, 6-8pm\, at Knight Fitness\, 65 Bayview Ave.\, Bayville\, NJ.  Packet Pick-up on race morning will start at 7am at Adrian Hall.  Race morning registration will be available online only via your mobile device. \nRace day registration for the 5K will be $45 so sign up early!
URL:https://oceanrunningclub.org/event/ocean-gate-5k/
LOCATION:Ocean Gate New Jersey
CATEGORIES:Races
END:VEVENT
END:VCALENDAR