BEGIN:VCALENDAR
VERSION:2.0
PRODID:-// - ECPv6.13.0//NONSGML v1.0//EN
CALSCALE:GREGORIAN
METHOD:PUBLISH
X-ORIGINAL-URL:https://oceanrunningclub.org
X-WR-CALDESC:Events for 
REFRESH-INTERVAL;VALUE=DURATION:PT1H
X-Robots-Tag:noindex
X-PUBLISHED-TTL:PT1H
BEGIN:VTIMEZONE
TZID:America/New_York
BEGIN:DAYLIGHT
TZOFFSETFROM:-0500
TZOFFSETTO:-0400
TZNAME:EDT
DTSTART:20240310T070000
END:DAYLIGHT
BEGIN:STANDARD
TZOFFSETFROM:-0400
TZOFFSETTO:-0500
TZNAME:EST
DTSTART:20241103T060000
END:STANDARD
END:VTIMEZONE
BEGIN:VEVENT
DTSTART;TZID=America/New_York:20240720T083000
DTEND;TZID=America/New_York:20240720T110000
DTSTAMP:20260423T031758
CREATED:20240708T104046Z
LAST-MODIFIED:20240708T105043Z
UID:1163-1721464200-1721473200@oceanrunningclub.org
SUMMARY:Sandy Sprint Sea Isle City
DESCRIPTION:About the Event\n\nThe Sandy Sprint Sea Isle City includes a 5K Run\, 2 mile Family Fun Walk\, Survivor Ceremony and More. \nThe event takes place at Excursion Park (JFK blvd & The Promenade) \nRace Day Registration Begins at 7:15 am at Excursion Park \nRace Start: 8:30 am \nRegistration Fees: $40 adults\, $30 children under 12; Registration fees increase by $5 on 7/12/24 \n5K Course \nPre-Packet Pick up will occur from 4 PM to 6 PM on Friday\, July 19 at Excursion Park \nJoin us after the race at the Oar House for a post race get together! \nCLICK HERE TO REGISTER\n\n\n\nEvent Day Schedule\n\n7:15am – Race Day Registration open \n8:00am -Welcome by MC Monica Cryan\, Meteorologist PHL 17 \nNational Anthem by Ashli Rice \nSurvivor Ceremony \nSurvivor Photo \nMusical Performance by Ashli Rice \n8:25am – Warm Up \n8:30am – 5K Run Starts \n8:35am- Family Fun Walk Starts \n9:30am – Awards & Refreshments \n10:00am- Join us at the Oar House for a post-race get together! \n  \n\n\n\n\n\n\n\nEvent Day Parking\n\nMetered Parking is available at the Visitor Center Lot and at Excusion Park. \n  \nTEAL SPOTLIGHT  \nTeal Spotlight: It’s July and the countdown to the Sandy Sprint Sea Isle is on! This week we are highlighting the Medici family\, seasoned Sandy Sprinters! They first got involved with the event in 2006/2007 and have participated enthusiastically ever since. \nSadly\, they lost their sister\, Amy\, to ovarian cancer when she was 21 in 1998. Their cousin found SROCF & Sandy Sprint for the whole family to support. \nAmy’s Team is made up of family and friends who eagerly sign up. They enjoy the time together to support the cause in Amy’s memory. A highlight of the day is the Christmas in July party back at their shore house after the run/walk. It’s always a good time! \nThe Medici family shares\, “SROCF is a great cause that advocates for those in need.  Most people who have not been affected don’t know much about ovarian cancer. Getting the word out helps people understand the signs\, to be aware of for themselves. There is a reason why it is called the silent killer\, and we are hopeful through the work that is done through Sandy Rollman and other organizations the detection\, treatments\, and cure rates can continue to increase.” \nJoin the SROCF community on SATURDAY\, JULY 20\, 8am for SANDY SPRINT SEA ISLE RUN/WALK. Register/Donate HERE. See you at the shore!
URL:https://oceanrunningclub.org/event/sandy-sprint-sea-isle-city/
LOCATION:Sea Isle City\, Excursion Park\, 2 41st St\, Sea Isle City\, New Jersey\, 08243
CATEGORIES:Races
END:VEVENT
END:VCALENDAR