BEGIN:VCALENDAR
VERSION:2.0
PRODID:-// - ECPv6.13.0//NONSGML v1.0//EN
CALSCALE:GREGORIAN
METHOD:PUBLISH
X-ORIGINAL-URL:https://oceanrunningclub.org
X-WR-CALDESC:Events for 
REFRESH-INTERVAL;VALUE=DURATION:PT1H
X-Robots-Tag:noindex
X-PUBLISHED-TTL:PT1H
BEGIN:VTIMEZONE
TZID:America/New_York
BEGIN:DAYLIGHT
TZOFFSETFROM:-0500
TZOFFSETTO:-0400
TZNAME:EDT
DTSTART:20240310T070000
END:DAYLIGHT
BEGIN:STANDARD
TZOFFSETFROM:-0400
TZOFFSETTO:-0500
TZNAME:EST
DTSTART:20241103T060000
END:STANDARD
END:VTIMEZONE
BEGIN:VEVENT
DTSTART;TZID=America/New_York:20240907T090000
DTEND;TZID=America/New_York:20240907T113000
DTSTAMP:20260423T003424
CREATED:20240709T100723Z
LAST-MODIFIED:20240709T100723Z
UID:1174-1725699600-1725708600@oceanrunningclub.org
SUMMARY:Run for Nurses
DESCRIPTION:Place\nJFK Blvd\, and Promenade\n20 Kennedy Blvd\nSea Isle City\, NJ US 08243\n\n\n\n\nDescription\n\n\nHosted by Sea Isle City’s famous Dalrymple’s Card & Gift\, the Run For Nurses is a 5K run and 1M walk on the Sea Isle Promenade to raise funds for future Frontline Workers. Proceeds from this race will benefit the Cape Regional Foundation by providing funding for both the Robert J. Sorenson Employee Education Fund and the Nursing and Allied Health Scholarship Fund.  \nCLICK HERE TO REGISTER\n– Race Day Registration and Packet Pickup opens 7:30 am at the Promenade and JFK\n– The race will start with runners first at 9am and then walkers will follow after. Walkers will walk to 50th and turnaround to complete 1 Mile\n– Results will be posted live during the race and awards will be announced following the final runner\n– Awards in the 5K to the top 3 M/F Overall and in divisions: 14U\, 15-19\, and 10 year AG up to 70+\n 
URL:https://oceanrunningclub.org/event/run-for-nurses/
LOCATION:Sea Isle City\, Excursion Park\, 2 41st St\, Sea Isle City\, New Jersey\, 08243
CATEGORIES:Races
END:VEVENT
END:VCALENDAR