BEGIN:VCALENDAR
VERSION:2.0
PRODID:-// - ECPv6.13.0//NONSGML v1.0//EN
CALSCALE:GREGORIAN
METHOD:PUBLISH
X-ORIGINAL-URL:https://oceanrunningclub.org
X-WR-CALDESC:Events for 
REFRESH-INTERVAL;VALUE=DURATION:PT1H
X-Robots-Tag:noindex
X-PUBLISHED-TTL:PT1H
BEGIN:VTIMEZONE
TZID:America/New_York
BEGIN:DAYLIGHT
TZOFFSETFROM:-0500
TZOFFSETTO:-0400
TZNAME:EDT
DTSTART:20240310T070000
END:DAYLIGHT
BEGIN:STANDARD
TZOFFSETFROM:-0400
TZOFFSETTO:-0500
TZNAME:EST
DTSTART:20241103T060000
END:STANDARD
END:VTIMEZONE
BEGIN:VEVENT
DTSTART;TZID=America/New_York:20241006T080000
DTEND;TZID=America/New_York:20241006T130000
DTSTAMP:20260423T030604
CREATED:20240513T121449Z
LAST-MODIFIED:20240513T121449Z
UID:1005-1728201600-1728219600@oceanrunningclub.org
SUMMARY:47TH SEASIDE HALF MARATHON AND 5K
DESCRIPTION:Sunday Oct 06\, 2024 8:00AM\n\n\n\nTo benefit the Tri­Boro First Aid Squad of Seaside Heights\, Seaside Park and Berkeley Township\, the Ocean Running Club’s Scholarship Fund\, & the Marine Mammal Stranding Center\nRun our beautiful\, scenic course along the famous Boardwalk & Bay area through Seaside Park!\nCLICK HERE TO REGISTER\n\nRegistration is online only. INCLUDING same day \n\nThe Seaside Challenge\nRunners are welcomed to take the “Seaside Challenge”\, and run the 5K and the Half Marathon races back-to-back!\nTHREE medals given to all finishers of the Challenge – 5K\, Half Marathon & a special Challenge finisher medal! \nChallenge Pint Glass for Pre-Registrants! \nAwards not given for the challenge. Those who participate in the challenge are eligible for awards given in each individual race. \nIMPORTANT: 200 runner maximum capacity for this event. Registration ends when maximum capacity is reached. \nPre-Registration  $85  Ends  Sept 6\,2024 \nPost Registration  $100 \n*You must register for the Challenge category at the time of registration. You cannot combine your individual 5K and ½ marathon entries to count as the Challenge. If you register for the 5k and the 1/2 marathon separately\, you will NOT be in the Seaside Challenge \nHalf Marathon Info \nStart 9:00am – 3 hour time limit* \nMedal to all finishers! \nAwards: Top 3 overall male / female Top 3 in 10 year age groups 19 & under to 70 & over \nPre-Registration  $55 Ends  Sept 6\,2024 \nPost Registration  $65 \n*1st loop of the course must be completed in 1.5 hour or runner will be pulled at the end of 1st loop \n5K Info \nStart 8:00am – 45 min time limit\nMedal to all finishers! \nAwards Top  3 overall male / female \nTop 3 in 10 year age groups 19 & under to 70 & over \nIMPORTANT: 400 runner maximum capacity for this event.\nPre-Registration    $30   Ends  Sept 6\,2024 \nPost Registration    $35 \nAdditional Info for All Races \n\nRaces are Rain or Shine!!!!!\nLong Sleeve Shirts Guaranteed to Pre-Registrants of all races!\nPost registration while supply lasts\, no size guarantee.All Races begin @ Sawmill Cafe.  1807 Boardwalk Seaside Park\, NJ 08752\nBib Pick Up: Sunday\, October 06 at 7am at Saw Mill Café  (Boardwalk Entrance\nParking Meters are in Effect\n\n 
URL:https://oceanrunningclub.org/event/47th-seaside-half-marathon-and-5k/
LOCATION:Seaside Park\, 1807 Boardwalk\, Seaside Park\, NJ\, 08752
CATEGORIES:Ocean Running Club Races,Premier Events,Races
END:VEVENT
END:VCALENDAR