BEGIN:VCALENDAR
VERSION:2.0
PRODID:-// - ECPv6.13.0//NONSGML v1.0//EN
CALSCALE:GREGORIAN
METHOD:PUBLISH
X-ORIGINAL-URL:https://oceanrunningclub.org
X-WR-CALDESC:Events for 
REFRESH-INTERVAL;VALUE=DURATION:PT1H
X-Robots-Tag:noindex
X-PUBLISHED-TTL:PT1H
BEGIN:VTIMEZONE
TZID:America/New_York
BEGIN:DAYLIGHT
TZOFFSETFROM:-0500
TZOFFSETTO:-0400
TZNAME:EDT
DTSTART:20240310T070000
END:DAYLIGHT
BEGIN:STANDARD
TZOFFSETFROM:-0400
TZOFFSETTO:-0500
TZNAME:EST
DTSTART:20241103T060000
END:STANDARD
END:VTIMEZONE
BEGIN:VEVENT
DTSTART;TZID=America/New_York:20241116T080000
DTEND;TZID=America/New_York:20241116T170000
DTSTAMP:20260423T014417
CREATED:20240709T102433Z
LAST-MODIFIED:20240709T102433Z
UID:1182-1731744000-1731776400@oceanrunningclub.org
SUMMARY:2nd Annual Shamong Turkey Trot
DESCRIPTION:Place\n295 Indian Mills Road\nShamong\, NJ US 08088\nCLICK HERE TO REGISTER\n\n\n\n\nDescription\n\n\nPlease join us for the 2nd Annual Shamong Turkey Trot 5k Run and 1 Mile Fun Run/Walk Saturday\, 11/16/24 at 8:00am. \nThe 5k race will be electronic chip timed with combined start and finish lines.  Finisher medals for men and women will be awarded to age-groups 14 & Under\, 15-19\, 20-29\, 30-39\, 40-49\, 50-59\, 60-69\, and 70+.  5k awards will be announced at 9:30am.  Live online race results. \n5k registrations received before 11:59pm on 11/5/24 will include a free t-shirt.   \nThe 5k Run will take place 8:30am-9:30am.  The race will begin in the Indian Mills Memorial School parking lot\, then turn left on Old Indian Mills Road\, left on Grassy Lake\, left on Stokes Road\, left on Oakshade\, and a left onto Old Indian Mills Road\, and finish in the Indian Mills Memorial School parking lot. \n5k Registration fee is $25. \nAll 1 Mile Fun Run/Walk participants will receive a participation award at the finish line. \nThe 1 Mile Fun Run/Walk will take place at 8am-8:30am on the Indian Mills Memorial School property. \n1 Mile Fun Run/Walk Registration fee is $15. \nParticipants are encouraged to arrive 15-20 minutes prior to their race to pick-up their bib number at the registration tent. \nSponsored by Spirit of Shamong in collaboration with Girl Scout Troop 24713.  Net proceeds will support Girl Scout take action projects in Shamong. \n 
URL:https://oceanrunningclub.org/event/2nd-annual-shamong-turkey-trot/
LOCATION:Shamong\, NJ\, 295 Indian Mills Road\, Shamong\, New Jersey
CATEGORIES:Races
END:VEVENT
END:VCALENDAR