BEGIN:VCALENDAR
VERSION:2.0
PRODID:-// - ECPv6.13.0//NONSGML v1.0//EN
CALSCALE:GREGORIAN
METHOD:PUBLISH
X-ORIGINAL-URL:https://oceanrunningclub.org
X-WR-CALDESC:Events for 
REFRESH-INTERVAL;VALUE=DURATION:PT1H
X-Robots-Tag:noindex
X-PUBLISHED-TTL:PT1H
BEGIN:VTIMEZONE
TZID:America/New_York
BEGIN:DAYLIGHT
TZOFFSETFROM:-0500
TZOFFSETTO:-0400
TZNAME:EDT
DTSTART:20240310T070000
END:DAYLIGHT
BEGIN:STANDARD
TZOFFSETFROM:-0400
TZOFFSETTO:-0500
TZNAME:EST
DTSTART:20241103T060000
END:STANDARD
END:VTIMEZONE
BEGIN:VEVENT
DTSTART;TZID=America/New_York:20240203T100000
DTEND;TZID=America/New_York:20240203T140000
DTSTAMP:20260420T012204
CREATED:20231208T105031Z
LAST-MODIFIED:20231208T105031Z
UID:576-1706954400-1706968800@oceanrunningclub.org
SUMMARY:NJ Trail Series Winter Race 5 (NJ Trail Series Fall/Winter Races)
DESCRIPTION:Click Here to Register
URL:https://oceanrunningclub.org/event/nj-trail-series-winter-race-5-nj-trail-series-fall-winter-races/
LOCATION:Parsippany\, NJ US 07950\, 1 Governor Chris Christie Drive\, Parsippany\, New Jersey
END:VEVENT
BEGIN:VEVENT
DTSTART;TZID=America/New_York:20240210T083000
DTEND;TZID=America/New_York:20240210T113000
DTSTAMP:20260420T012204
CREATED:20231201T112541Z
LAST-MODIFIED:20231201T112541Z
UID:490-1707553800-1707564600@oceanrunningclub.org
SUMMARY:Cupid's Chase 5K Seaside Heights
DESCRIPTION:Description\n\n\nJoin us for the 16th annual Cupid’s Chase 5K! \nCommunity Options\, Inc. invites runners\, walkers\, rollers (baby strollers and wheelchairs)\, and sponsors to raise funds that make a difference in the lives of people with disabilities at our annual Cupid’s Chase 5K. Register early to secure your early bird discount and guarantee your Cupid’s Chase shirt! \nAll attendees will be given the opportunity to fundraise. Because of you… we can make a difference! \nCLICK HERE TO REGISTER\nRace Info \n– Check-in starts at 8:30 am\, and the race begins at 10:00 am. \n– Join us for an inclusive and memorable experience! Our event is fully accessible. Though this is a pet friendly event\, all pets must always remain on leashes. \n– This is a certified 5K with chipped timing. Results will be posted immediately after the race. \n– Please register early! To guarantee your Cupid’s Chase shirt\, participants must register on or before January 1\, 2024. After January 1st\, race shirts are available while supplies last. \n– Receive an official Cupid’s Chase finisher medal upon completing the race. \n– All participants receive a Cupid’s Chase drawstring bag. \n* Kindly note that all giveaways are available while supplies last. \n– Trophy awards go to the top 3 overall finishers for male and female. \n– First place from each age group will receive an age group medal. (12 and under\, 13-15\, 16-19\, 20-24\, 25-29\, 30-34\, 35-39\, 40-44\, 45-49\, 50-54\, 55-59\, 60-69\, 70 and over) \nGear Check \nThis is a rain or shine event! Remember to dress warmly for the event! \nPlease check this space for updates in case of inclement weather conditions. \nRefund Policy \nKindly note that all registration fees are non-refundable.
URL:https://oceanrunningclub.org/event/cupids-chase-5k-seaside-heights/
LOCATION:Seaside Heights New Jersey\, Hiering Avenue\, Seaside Heights\, New Jersey
CATEGORIES:Races
END:VEVENT
BEGIN:VEVENT
DTSTART;TZID=America/New_York:20240217T110000
DTEND;TZID=America/New_York:20240217T150000
DTSTAMP:20260420T012204
CREATED:20231201T215006Z
LAST-MODIFIED:20231201T215131Z
UID:496-1708167600-1708182000@oceanrunningclub.org
SUMMARY:Manasquan Beach Run/Walk
DESCRIPTION:Place\n217 First Avenue\nLeggett’s Sand Bar\nManasquan\, NJ US 08736\n\n\n\n\nDescription\n\n\n  Yes the Manasquan Beach Run/Walk is on for February 17th\, 2024!\nWe are back in Full Swing Again with the Beach Run/Walk. Pick up at Leggett’s 217 First Avenue Manasquan\, NJ 08736 on Friday night the 17th of February from 4:30 till 7:30 and also Saturday the 18th from 8 AM till race time.\nCLICK HERE TO REGISTER \n  We were offering a Dynamic Hooded Sweatshirt\nSame course as previous years.. A One & 3/4 Miles on the Roads and Beach Walkway and 1/4 Mile on Beach (Optional). Big Party at Leggett’s after the run with a Free Buffet! Prizes to the Top Ten finishers for Female & Male Categories.\nWe are adding a Friday Night February 16th\, 2024 4:30 till 7:30 pick up time at Leggett’s for those of who can make it. It will ease the burden on Saturday morning pick up which will also be at Leggett’s 217 First Avenue Manasquan\, NJ 08736 from 8:30 AM till race time (11 AM). You can pick up for friends if you have their email confirmation. \nAll proceeds go to Manasquan First Aid Squad. Over the years you have helped us raise a little over $300\,000.00 in the past 17 years.
URL:https://oceanrunningclub.org/event/manasquan-beach-run-walk/
LOCATION:Manasquan\, New Jersey\, 217 First Avenue\, Manasquan\, New Jersey
CATEGORIES:Races
END:VEVENT
BEGIN:VEVENT
DTSTART;TZID=America/New_York:20240217T120000
DTEND;TZID=America/New_York:20240217T170000
DTSTAMP:20260420T012204
CREATED:20231201T220347Z
LAST-MODIFIED:20231201T220347Z
UID:502-1708171200-1708189200@oceanrunningclub.org
SUMMARY:2024 Mike's Seafood 5K Run-Walk for Autism
DESCRIPTION:Place\n\n\nJohn F. Kennedy Blvd\, (On The Promenade)\nSea Isle City\, NJ US 08243\n\n\n\n\nDescription\n\n\n2024 Mike’s Seafood 5K Run -Walk for Autism is on Saturday\, February 17\, 2024\, at JFK and the Boardwalk\, 12:00 noon start. Proceeds benefit Special Services Schools\, Autism Support Groups\, Families of Special Needs Children\, and Autism Speaks. \nThis unique event encourages runners and walkers of all ages to participate with their families\, while supporting a worthwhile cause. Please review the event application for prize details for both men and women in the various age classifications for the 5K run. The walk is a non-competitive event. \nThen join us in the HUGE HEATED tents outside Excursion Park for Live Music\, an Awards Ceremony\, Door-Prizes\, and Magicians and Face Painting for the Kids!  All while enjoying a large Buffet consisting of: Bagels\, Donuts\, Pastries\, Soft Pretzels\, Fruit and Drinks. \nCLICK HERE TO REGISTER\nThe first 1\,200 pre-registered participants will receive a baseball cap and are entered into the Door Prize Give-Away.  Day of Race baseball cap available while supplies last.   \nAll team members must signup by Wednesday\, February 14\, 2024 @ 5pm.\n           (Pre-registered teams with 10 or more will get a discount.)\nPre-Registered Packet Pick/Up (Mike’s Seafood 4222 Park Rd) \nFriday\, February 16\, 2024\n4:00PM to 7:00PM \nSaturday\, February 17\, 2024\n9:30AM to 11:00AM (In Event Tent\, Excursion Park @ JFK Blvd. and the Promenade)\n  \n~ NO “SNOW” DATE or REFUND ~ \nAny Day you can do something for Children With Disabilities…it’s a Good Day.! Proceeds Benefit Autism Speaks\, Special Services Schools\, Autism Support Groups and Families of Special Needs Children.\nNon Profit Federal Tax Id: 27-1476404
URL:https://oceanrunningclub.org/event/2024-mikes-seafood-5k-run-walk-for-autism/
LOCATION:Sea Isle City\, New Jersey\, John F. Kennedy Blvd\, (On The Promenade)\, Sea Isle City\, New Jersey
END:VEVENT
BEGIN:VEVENT
DTSTART;TZID=America/New_York:20240224T080000
DTEND;TZID=America/New_York:20240224T170000
DTSTAMP:20260420T012204
CREATED:20231114T231408Z
LAST-MODIFIED:20231114T231408Z
UID:349-1708761600-1708794000@oceanrunningclub.org
SUMMARY:Polar Bear Plunge at Seaside Heights
DESCRIPTION:  \nEach year\, the Polar Bear Plunge at Seaside challenges thousands of brave jumpers from around the state. It’s a great way for everyone–individuals\, teams\, organizations and businesses–to get involved supporting Special Olympics New Jersey. All funds raised go towards programming and events for thousands of athletes statewide. \nClick here to Register
URL:https://oceanrunningclub.org/event/polar-bear-plunge-at-seaside-heights/
LOCATION:Seaside Heights\, Seaside Heights
CATEGORIES:Races
END:VEVENT
END:VCALENDAR