BEGIN:VCALENDAR
VERSION:2.0
PRODID:-// - ECPv6.13.0//NONSGML v1.0//EN
CALSCALE:GREGORIAN
METHOD:PUBLISH
X-ORIGINAL-URL:https://oceanrunningclub.org
X-WR-CALDESC:Events for 
REFRESH-INTERVAL;VALUE=DURATION:PT1H
X-Robots-Tag:noindex
X-PUBLISHED-TTL:PT1H
BEGIN:VTIMEZONE
TZID:America/New_York
BEGIN:DAYLIGHT
TZOFFSETFROM:-0500
TZOFFSETTO:-0400
TZNAME:EDT
DTSTART:20240310T070000
END:DAYLIGHT
BEGIN:STANDARD
TZOFFSETFROM:-0400
TZOFFSETTO:-0500
TZNAME:EST
DTSTART:20241103T060000
END:STANDARD
END:VTIMEZONE
BEGIN:VEVENT
DTSTART;TZID=America/New_York:20240811T073000
DTEND;TZID=America/New_York:20240811T120000
DTSTAMP:20260420T025513
CREATED:20240708T104844Z
LAST-MODIFIED:20240708T105212Z
UID:1167-1723361400-1723377600@oceanrunningclub.org
SUMMARY:Badgers Autumn Lake Triathlon
DESCRIPTION:Date:  Sunday\, August 11\, 2022\, 7:30am \nLocation:   Autumn Lake Winery  \n                    870 W. Malaga Road  \n                    Williamstown\, NJ 08094 \n  \nDescription:   The 2022 Williamstown Badgers Autumn Lake Triathlon begins with a 0.4 mile swim in a clean\, spring-fed lake in the heart of Williamstown. The 13 mile bike ride is flat and fast and includes roads with large bike lanes. The 5K run will take place on the property of Autumn Lake Winery and will take you through trails\, around two lakes and through the vineyard.  The trails are mostly hard packed dirt with some areas of grass\, sand\, and loose dirt. \nClick Here to REGISTER\n 
URL:https://oceanrunningclub.org/event/badgers-autumn-lake-triathlon/
LOCATION:Autumn Lake Winery\, 870 W. Malaga Road\, Williamstown\, New Jersey\, 08094
CATEGORIES:Races
END:VEVENT
BEGIN:VEVENT
DTSTART;TZID=America/New_York:20240811T080000
DTEND;TZID=America/New_York:20240811T110000
DTSTAMP:20260420T025513
CREATED:20240708T110042Z
LAST-MODIFIED:20240708T110042Z
UID:1171-1723363200-1723374000@oceanrunningclub.org
SUMMARY:The North Vineland Road Race
DESCRIPTION:Place\n185 W. Forest Grove Road\nVineland\, NJ US 08360\n\n\n\nDescription\n\nA Classic Summer Road Race through the Suburbs of North Vineland\nPresented by Vineland Fire Department Station 3\n* EARLY PRICING FOR THE FIRST MONTH ONLY – $15\n– Awards to the top 3 M/F overall and in age groups: 14 & under\, 15-19\, and 10 year AG up to 70+\n– Special pricing for runners age 18 & under\n– Team pricing for teams of 5 or more: once your team hits 5 runners\, all members pay only $20\nCLICK HERE TO REGISTER\n 
URL:https://oceanrunningclub.org/event/the-north-vineland-road-race/
LOCATION:Vindland Fire\, 185 W. Forest Grove Road\, Vineland\, New Jersey
CATEGORIES:Races
END:VEVENT
END:VCALENDAR