BEGIN:VCALENDAR
VERSION:2.0
PRODID:-// - ECPv6.13.0//NONSGML v1.0//EN
CALSCALE:GREGORIAN
METHOD:PUBLISH
X-ORIGINAL-URL:https://oceanrunningclub.org
X-WR-CALDESC:Events for 
REFRESH-INTERVAL;VALUE=DURATION:PT1H
X-Robots-Tag:noindex
X-PUBLISHED-TTL:PT1H
BEGIN:VTIMEZONE
TZID:America/New_York
BEGIN:DAYLIGHT
TZOFFSETFROM:-0500
TZOFFSETTO:-0400
TZNAME:EDT
DTSTART:20240310T070000
END:DAYLIGHT
BEGIN:STANDARD
TZOFFSETFROM:-0400
TZOFFSETTO:-0500
TZNAME:EST
DTSTART:20241103T060000
END:STANDARD
END:VTIMEZONE
BEGIN:VEVENT
DTSTART;TZID=America/New_York:20241005T070000
DTEND;TZID=America/New_York:20241005T120000
DTSTAMP:20260422T191858
CREATED:20240213T120122Z
LAST-MODIFIED:20240213T120122Z
UID:823-1728111600-1728129600@oceanrunningclub.org
SUMMARY:Run the Crest
DESCRIPTION:You raced the rest\, now RUN THE CREST!\nRun The Crest is more than just a race…it is an experience\nCome to run and stay for fun\nPost race festivities include vendors\, food trucks\, live entertainment\, and family fun\nCLICK HERE TO REGISTER\nEvent: Run The Crest 5K\n\n**Race start times subject to change based on permit requirements.\nStart Time: 7:00am EDT\nPrice: $45.00 Race Fee + $3.70 SignUp Fee\nRegistration: Price increases to $50.00 after May 27\, 2024 at 11:59pm EDT\n\nEvent: Run The Crest 10 Miler\n\n**Race start times subject to change based on permit requirements.\nStart Time: 8:00am EDT\nPrice: $65.00 Race Fee + $4.90 SignUp Fee\nRegistration: Price increases to $79.00 after May 27\, 2024 at 11:59pm EDT\n\nEvent: Crest Combo\nIncludes the following events: Run The Crest 5K and Run The Crest 10 Miler \n\n**Race start times subject to change based on permit requirements.\nStart Time: 7:00am EDT\nPrice: $99.00 Race Fee + $6.94 SignUp Fee\nRegistration: Price increases to $115.00 after May 27\, 2024 at 11:59pm EDT\n\nEvent: Crest Kids Fun Run\n\nHave your kids join us for the Crest Kids Fun Run. The run will be one lap around the race festival at Centennial Park.\nOpen to ages 1 – 10.\nStart Time: 11:00am EDT\nPrice: $15.00 Race Fee + $1.90 SignUp Fee\nRegistration: Registration ends October 5\, 2024 at 11:59pm EDT
URL:https://oceanrunningclub.org/event/run-the-crest/
LOCATION:Centennial Park\, Wildwood Crest\, New Jersey
CATEGORIES:Races
END:VEVENT
BEGIN:VEVENT
DTSTART;TZID=America/New_York:20241005T080000
DTEND;TZID=America/New_York:20241005T170000
DTSTAMP:20260422T191859
CREATED:20240801T111435Z
LAST-MODIFIED:20241207T185742Z
UID:1216-1728115200-1728147600@oceanrunningclub.org
SUMMARY:Silverton Vol. Fire Co. 5K
DESCRIPTION:
URL:https://oceanrunningclub.org/event/silverton-vol-fire-co-5k/
LOCATION:Silverton Fire Co.\, 15 kettle Creek Rd.\, Toms River\, New Jersey
END:VEVENT
BEGIN:VEVENT
DTSTART;TZID=America/New_York:20241006T080000
DTEND;TZID=America/New_York:20241006T130000
DTSTAMP:20260422T191859
CREATED:20240513T121449Z
LAST-MODIFIED:20240513T121449Z
UID:1005-1728201600-1728219600@oceanrunningclub.org
SUMMARY:47TH SEASIDE HALF MARATHON AND 5K
DESCRIPTION:Sunday Oct 06\, 2024 8:00AM\n\n\n\nTo benefit the Tri­Boro First Aid Squad of Seaside Heights\, Seaside Park and Berkeley Township\, the Ocean Running Club’s Scholarship Fund\, & the Marine Mammal Stranding Center\nRun our beautiful\, scenic course along the famous Boardwalk & Bay area through Seaside Park!\nCLICK HERE TO REGISTER\n\nRegistration is online only. INCLUDING same day \n\nThe Seaside Challenge\nRunners are welcomed to take the “Seaside Challenge”\, and run the 5K and the Half Marathon races back-to-back!\nTHREE medals given to all finishers of the Challenge – 5K\, Half Marathon & a special Challenge finisher medal! \nChallenge Pint Glass for Pre-Registrants! \nAwards not given for the challenge. Those who participate in the challenge are eligible for awards given in each individual race. \nIMPORTANT: 200 runner maximum capacity for this event. Registration ends when maximum capacity is reached. \nPre-Registration  $85  Ends  Sept 6\,2024 \nPost Registration  $100 \n*You must register for the Challenge category at the time of registration. You cannot combine your individual 5K and ½ marathon entries to count as the Challenge. If you register for the 5k and the 1/2 marathon separately\, you will NOT be in the Seaside Challenge \nHalf Marathon Info \nStart 9:00am – 3 hour time limit* \nMedal to all finishers! \nAwards: Top 3 overall male / female Top 3 in 10 year age groups 19 & under to 70 & over \nPre-Registration  $55 Ends  Sept 6\,2024 \nPost Registration  $65 \n*1st loop of the course must be completed in 1.5 hour or runner will be pulled at the end of 1st loop \n5K Info \nStart 8:00am – 45 min time limit\nMedal to all finishers! \nAwards Top  3 overall male / female \nTop 3 in 10 year age groups 19 & under to 70 & over \nIMPORTANT: 400 runner maximum capacity for this event.\nPre-Registration    $30   Ends  Sept 6\,2024 \nPost Registration    $35 \nAdditional Info for All Races \n\nRaces are Rain or Shine!!!!!\nLong Sleeve Shirts Guaranteed to Pre-Registrants of all races!\nPost registration while supply lasts\, no size guarantee.All Races begin @ Sawmill Cafe.  1807 Boardwalk Seaside Park\, NJ 08752\nBib Pick Up: Sunday\, October 06 at 7am at Saw Mill Café  (Boardwalk Entrance\nParking Meters are in Effect\n\n 
URL:https://oceanrunningclub.org/event/47th-seaside-half-marathon-and-5k/
LOCATION:Seaside Park\, 1807 Boardwalk\, Seaside Park\, NJ\, 08752
CATEGORIES:Ocean Running Club Races,Premier Events,Races
END:VEVENT
BEGIN:VEVENT
DTSTART;TZID=America/New_York:20241020T100000
DTEND;TZID=America/New_York:20241020T123000
DTSTAMP:20260422T191859
CREATED:20240709T102016Z
LAST-MODIFIED:20240709T102016Z
UID:1179-1729418400-1729427400@oceanrunningclub.org
SUMMARY:BPI STRONG 5K RUN / 1 MILE WALK
DESCRIPTION:Place\n400 Fairview Road\nMedford\, NJ US 08055-8162\nCLICK HERE TO REGISTER\n\n\n\n\nDescription\n\n\nCome join us for the 5th annual BPI Strong 5k Run/ 1 Mile Walk – a fun\, family-friendly\, active event that supports a great cause! \nThis will be an easy flat\, fast-paced course through the beautiful Tamarac development in Medford\, NJ with the start and finish at Cranberry Pines School! \nWe will have refreshments after the event and awards for the top male and female runner and the top runner in each age group! \nRace shirts are available for purchase if you register by 10/6/2023. \nOur son\, Owen Hill (pictured above) suffered a Brachial Plexus Injury (BPI) at birth which left his left arm paralyzed. He has since had two surgeries and lots of Occupational Therapy to help him use his left arm! \nThe proceeds from this event will benefit the Brachial Plexus Injury (BPI) Program\, a division of the Orthopedics team at the Children’s Hospital of Philadelphia (CHOP). \n\n\n\n\n  \n 
URL:https://oceanrunningclub.org/event/bpi-strong-5k-run-1-mile-walk/
LOCATION:Medford\, NJ\, 400 Fairview Road\, Medford\, New Jersey
CATEGORIES:Races
END:VEVENT
BEGIN:VEVENT
DTSTART;TZID=America/New_York:20241027T090000
DTEND;TZID=America/New_York:20241027T113000
DTSTAMP:20260422T191859
CREATED:20241007T210525Z
LAST-MODIFIED:20241007T210525Z
UID:1227-1730019600-1730028600@oceanrunningclub.org
SUMMARY:Eagle First Responders 5K
DESCRIPTION:Place\n200 Kierych Memorial Drive\nJackson\, NJ US 08527\n\n\n\n\nDescription\n\n\nThe race will take place in Johnson Park in Jackson\, NJ on Sunday\, October 27\, 2024. Course is fast and flat! Starts in Johnson Park\, takes you through local streets\, then ends back in the park. This is a USATF-certified course. Immediately prior to the 5K\, there will be a Kid’s Dash! All ages are welcome.\nCLICK HERE TO REGISTER\n***COSTUMES ENCOURAGED!***\n\nRegister early!  5K fee (adults) is $35 through 9/30/24; fee increases to $40 on 10/1/24. The cost of the Kid’s Dash is $10 (t-shirt not included).\n \nFree race t-shirt for 5K participants guaranteed through 9/30/24 though we will do our best to accommodate all registrants. ONLINE REGISTRATION CLOSES 10/26/24 at 9:00 PM.\n\nYou may register ON-SITE at Johnson Park on the day of the event starting at 8:00 AM.  On-site fee for the 5K is $40 and Kid’s Dash is $10.  Credit card payments preferred.\n\nREGISTRATION DISCOUNTS AVAILABLE:\n\n\nSTUDENTS – If you are under 18 years old\, enter code Student20 to receive registration for $20.\n\n\nGROUPS – For groups of 10 or more\, contact mkohute@msn.com for group code and pricing.\n\n\n\nRace Day Schedule:\n\n\n\n8:00-8:45 am: Pre-registered race packet pick up & day of event registration\n\n\n9:00 am:  Kid’s Dash\, followed immediately by 5K run and walk\n\n\n5K Awards and First Responder recognition immediately following race\n\n\n\n5K Awards:\nThis is a chipped race.  All awards are based on chip time. 1st\, 2nd\, and 3rd place overall winners are not eligible for age division awards.\n\n\n1st First Responder\n\n\n1st\, 2nd\, 3rd place male and female overall\n\n\n1st place male & female in each age group (19 and under\, 20-39\, 40 and over)\n\n\n\n***Sponsorship Opportunities – See SPONSORS section for information on how to sponsor this race.***
URL:https://oceanrunningclub.org/event/eagle-first-responders-5k/
LOCATION:Johnson Park\, Jackson NJ\, 200 Kierych Memorial Drive\, Jackson\, New Jersey\, 08527
CATEGORIES:Races
END:VEVENT
END:VCALENDAR